BEGIN:VCALENDAR
VERSION:2.0
PRODID:-//Contratero//ES
CALSCALE:GREGORIAN
METHOD:PUBLISH
BEGIN:VEVENT
UID:SPSC 41/2021@contratero.es
DTSTAMP:20260423T211939Z
DTSTART:20220610T235959
DTEND:20220611T005959
SUMMARY:Cierre: Suministro de sistema de gestión integral y sistem
DESCRIPTION:Suministro de sistema de gestión integral y sistema de gestión de comunicaciones para la Policía Municipal de Valladolid\\n\\nOrganismo: Concejalía del Área de Salud Pública y Seguridad Ciudadana del Ayuntamiento de Valladolid\\n\\nVer en Contratero: https://contratero.es/contracts/SPSC 41/2021
URL:https://contratero.es/contracts/SPSC 41/2021
STATUS:CONFIRMED
BEGIN:VALARM
TRIGGER:-P1D
ACTION:DISPLAY
DESCRIPTION:Recordatorio: Suministro de sistema de gesti
END:VALARM
END:VEVENT
END:VCALENDAR